BEGIN:VCALENDAR
VERSION:2.0
PRODID:-//81.169.145.162//NONSGML kigkonsult.se iCalcreator 2.20//
CALSCALE:GREGORIAN
METHOD:PUBLISH
X-WR-TIMEZONE:Europe/Berlin
BEGIN:VEVENT
UID:event10@MSV Bad Arolsen
DTSTAMP:20260422T103035Z
CATEGORIES:Flugtage
DESCRIPTION:Flying Circus\nKategorie: Flugtage\nICS-Link: http://www.msv-ba
 d-arolsen.de/index.php?option=com_jem&view=event&id=10:flying-circus\n
DTSTART;TZID=Europe/Berlin:20150709T090000
DTEND;TZID=Europe/Berlin:20150712T180000
LOCATION:Fiss Serfaus\,Gänsackerweg 2\,6534 Serfaus
SUMMARY:Flying Circus
URL:http://www.msv-bad-arolsen.de/index.php?option=com_jem&view=event&id=10
 :flying-circus
END:VEVENT
END:VCALENDAR
